BEGIN:VCALENDAR
VERSION:2.0
CALSCALE:GREGORIAN
PRODID:-//MyApp//Calendar 1.0//EN
BEGIN:VEVENT
METHOD:PUBLISH
UID:54388@regionalniportaly.cz
DTSTAMP:20260422T205859Z
DTSTART;VALUE=DATE:20250527
DTEND;VALUE=DATE:20250528
SUMMARY:Predátor na Panelce
DESCRIPTION:Je to tady!&nbsp\;Panelka Oldschool &amp\; Art kino začíná a rozjede to nikdo jinej než Arnie!&nbsp\;Predátora jedničku v jediném českém dabingu si užijete v našem novém letní kině!Predátor (1987)V džungli přistane kosmická loď\, na jejíž palubě je dokonale vybavený mimozemský nimrod. Tak takhle byl formulován prolog tohoto kultovního snímku z roku 1987. LOL.ČSFD: 87%
LOCATION:Luleč
END:VEVENT
END:VCALENDAR