BEGIN:VCALENDAR
VERSION:2.0
CALSCALE:GREGORIAN
PRODID:-//MyApp//Calendar 1.0//EN
BEGIN:VEVENT
METHOD:PUBLISH
UID:54273@regionalniportaly.cz
DTSTAMP:20260422T170645Z
DTSTART;VALUE=DATE:20250815
DTEND;VALUE=DATE:20250816
SUMMARY:Mucha & Xavier Baumaxa na Panelce
DESCRIPTION:Víte\, co má společného&nbsp\;srpnový trávník a humor těchhle dvou muzicírů? Je suchý\, až to bolí! Zpěvačka a písničkářka Mucha má srdce na správném punkovém místě. Xavier Baumaxa žije v&nbsp\;Malhostovicích s počtem obyvatel 1030 (ani nevíme\, kde to je) a s kytarou nadžánrově bruslí jak Sáblíková na Olympiádě. Takže v Lulči se bude cítit jako doma!V obou případech se tu bavíme o vysoce kvalitních hudebnících\, kteří se na Panelce představí v solové podobě. Jeden večer\, dva koncíky a minimálně 6 piv.Pozor\, může to být ostré a sprosté!
LOCATION:Luleč
END:VEVENT
END:VCALENDAR