BEGIN:VCALENDAR
VERSION:2.0
CALSCALE:GREGORIAN
PRODID:-//MyApp//Calendar 1.0//EN
BEGIN:VEVENT
METHOD:PUBLISH
UID:53998@regionalniportaly.cz
DTSTAMP:20260422T143400Z
DTSTART;VALUE=DATE:20250613
DTEND;VALUE=DATE:20250621
SUMMARY:Rousínovský divadelní a folklorní festival
DESCRIPTION:Šestý ročník Rousínovského divadelního a folklorního festivalu už se blíží!I letos se můžete těšit na milá setkávání\, zajímavé hosty\, skvělou atmosféru a hlavně pořádnou dávku divadla a folkloru pro celou rodinu! A to vše v příjemném prostředí parku za Záložnou.\nČeká vás folklorní den\, který zakončí koncertem kapela Fleret\, hlavní host festivalu Michaela Kuklová\, při tradičním setkání pod lípou\, Jan Čenský s Danou Morávkovou ve hře "Mlčeti zlato"\, oblíbený divadelní soubor D.A.V.A Rousínov\, zpěvačka Kamila Nývltová v doprovodu ženského pěveckého sboru Rousing\, divadelní hra "Notesánek" od Divadla 2-15\, pohádkový park pro děti\, řemeslné odpoledne s MASkou a spoustu dalšího!\n \nPokud plánujete přijít na více představení\, vyplatí se festivalová vstupenka za zvýhodněnou cenu.\n 
LOCATION:Rousínov
END:VEVENT
END:VCALENDAR