BEGIN:VCALENDAR
VERSION:2.0
CALSCALE:GREGORIAN
PRODID:-//MyApp//Calendar 1.0//EN
BEGIN:VEVENT
METHOD:PUBLISH
UID:52761@regionalniportaly.cz
DTSTAMP:20260422T230834Z
DTSTART;VALUE=DATE:20250626
DTEND;VALUE=DATE:20250627
SUMMARY:Trenér - David Prachař na Panelce
DESCRIPTION:David PrachařHra nejen o&nbsp\;fotbale\, ale i&nbsp\;změnách\, které s&nbsp\;sebou přináší život. Více než dvacet let stál coby stratég stranou\, býval při tréninku pes a&nbsp\;během hry spasitel. Jeho klub se jmenuje Spartak Roudnice\, povoláním fotbalový trenér. Jakmile je jednou v&nbsp\;ráži\, není k&nbsp\;zastavení...Autor: Thomas BrussigRežie: Thomas ZielinskiDélka: 90 minutBezbariérový přístup: prosím volejte předem pro rezervaci míst.
LOCATION:Luleč
END:VEVENT
END:VCALENDAR