BEGIN:VCALENDAR
VERSION:2.0
CALSCALE:GREGORIAN
PRODID:-//MyApp//Calendar 1.0//EN
BEGIN:VEVENT
METHOD:PUBLISH
UID:52038@regionalniportaly.cz
DTSTAMP:20260422T195149Z
DTSTART;VALUE=DATE:20250520
DTEND;VALUE=DATE:20250521
SUMMARY:Dobrovský & Šídlo na Panelce
DESCRIPTION:Na tohle jsme čekali dlouho a těšili se ještě dýl.Tento podcast a jejich zakladatele asi nemá cenu představovat.Bojovali jsme\, prali jsme se o ně a povedlo se :).Jeden ze čtyř Open Airů proběhne u nás na Panelce\, ou yeah!&nbsp\;Akce začíná v 19:30 a pokud znáš Šídlo &amp\; Dobrovský a neznáš Panelku\, doporučujeme dorazit o dost dřív. Jednak se můžeš vykoupat hnedle vedle v kouzelným zatopeným lomu a druhak skvěle najíst a napít.Panelka je vyhlášený rodinný\, bezdotační podnik s nevšedním konceptem.Jsme držitelé ceny Gourmet Jižní Morava&nbsp\; a Nejlepší kiosek na světě :)Pokud chcete u nás nebo v okolí přespat\, hlaste se u Ondřeje - tel.: 774 021 774.Doufáme\, že si nejen akci užijete.&nbsp\;Těšíme se na Vás.&nbsp\;Šárka s Ondřejem&nbsp\;&nbsp\;&nbsp\;&nbsp\;&nbsp\;
LOCATION:Luleč
END:VEVENT
END:VCALENDAR