BEGIN:VCALENDAR
VERSION:2.0
CALSCALE:GREGORIAN
PRODID:-//MyApp//Calendar 1.0//EN
BEGIN:VEVENT
METHOD:PUBLISH
UID:51799@regionalniportaly.cz
DTSTAMP:20260422T195724Z
DTSTART;VALUE=DATE:20250321
DTEND;VALUE=DATE:20250322
SUMMARY:Ještě jeden ples
DESCRIPTION:
LOCATION:Vyškov
END:VEVENT
END:VCALENDAR