BEGIN:VCALENDAR
VERSION:2.0
CALSCALE:GREGORIAN
PRODID:-//MyApp//Calendar 1.0//EN
BEGIN:VEVENT
METHOD:PUBLISH
UID:51492@regionalniportaly.cz
DTSTAMP:20260422T214808Z
DTSTART;VALUE=DATE:20250306
DTEND;VALUE=DATE:20250307
SUMMARY:muzikál Kouzelná lampa
DESCRIPTION:Vydejte se s námi na kouzelnou cestu do dalekého Orientu!Kouzelná lampa je původní muzikál\, který uvede mladší ansámbl D.A.V.A v nové premiéře v březnu 2025.\nKde se skrývá pravé kouzlo? V lampě\, Džinovi nebo v srdci každého z nás?Autorem scénáře a hudby je David Kříž. Příběh\, který se inspiruje příběhy Aladina\, lampy\, Džina a Jasmíny přinese divákům originální dějové prvky a spoustu chytlavých melodií.\nPREMIÉRA ve čtvrtek 6.3. \, následuje první repríza v pátek 7.3.Již tradičně ve velkém sále restaurace Záložna.\n \nVstupenky lze zakoupit online i na místě těsně před začátkem představení.\nHrají:Adéla Kubíková\, Elena Gajdová\, Marek Musil\, Jan Procházka\, Johana Musilová\, Hana Mikulášková\, Antonín Kubík\, Petr Pogštefl\, Marek Rožnovský\, Michal Dvořák\, Nella Blažková\, Bára Musálková\, Tereza Lochmanová\, Denisa Musilová\, Sofia Geclerová\, Aneta Blažková\, Eliška Wagnerová\, Viktorie Padrtová\, Ilona Mezihoráková\, Markéta Rothköglová\, Adéla Šeligová\, Eliška Reitmannová
LOCATION:Rousínov
END:VEVENT
END:VCALENDAR