BEGIN:VCALENDAR
VERSION:2.0
CALSCALE:GREGORIAN
PRODID:-//MyApp//Calendar 1.0//EN
BEGIN:VEVENT
METHOD:PUBLISH
UID:49882@regionalniportaly.cz
DTSTAMP:20260422T200928Z
DTSTART;VALUE=DATE:20250110
DTEND;VALUE=DATE:20250111
SUMMARY:Dana Chytilová zpívá šansony Hany Hegerové
DESCRIPTION:
LOCATION:Vyškov
END:VEVENT
END:VCALENDAR