BEGIN:VCALENDAR
VERSION:2.0
CALSCALE:GREGORIAN
PRODID:-//MyApp//Calendar 1.0//EN
BEGIN:VEVENT
METHOD:PUBLISH
UID:49821@regionalniportaly.cz
DTSTAMP:20260422T212300Z
DTSTART;VALUE=DATE:20250118
DTEND;VALUE=DATE:20250119
SUMMARY:Městský společenský ples
DESCRIPTION:Hrají:skupina Martin Láska &amp\; Band acimbálovka Hanácký hrozen.&nbsp\;Předtančení\, tombola a občerstvení zajištěno.
LOCATION:Ivanovice na Hané
END:VEVENT
END:VCALENDAR