BEGIN:VCALENDAR
VERSION:2.0
CALSCALE:GREGORIAN
PRODID:-//MyApp//Calendar 1.0//EN
BEGIN:VEVENT
METHOD:PUBLISH
UID:49812@regionalniportaly.cz
DTSTAMP:20260422T225755Z
DTSTART;VALUE=DATE:20250214
DTEND;VALUE=DATE:20250215
SUMMARY:Valentýnský Disco ples
DESCRIPTION:VALENTÝNSKÝ DISCO PLESKde: Kulturní zařízení KomořanyKdy: 14. února 2025\, od 20:00Program:k tanci a poslechu hraje skupina VELVETmažoretky KALIMEROkovbojské taneční vystoupenítombolaAkci pořádá Prima život\, z. s.
LOCATION:Komořany
END:VEVENT
END:VCALENDAR