BEGIN:VCALENDAR
VERSION:2.0
CALSCALE:GREGORIAN
PRODID:-//MyApp//Calendar 1.0//EN
BEGIN:VEVENT
METHOD:PUBLISH
UID:49691@regionalniportaly.cz
DTSTAMP:20260422T195626Z
DTSTART;VALUE=DATE:20250101
DTEND;VALUE=DATE:20250131
SUMMARY:SAUNA Tučapy
DESCRIPTION:Sauna v TUČAPECH U ZLATÉ RYBKY od 1.1.2025 otevřená od 15.30 hod do 21.30hod každý den mimo pondělí. Těšíme se na Vás:))
LOCATION:Tučapy
END:VEVENT
END:VCALENDAR