BEGIN:VCALENDAR
VERSION:2.0
CALSCALE:GREGORIAN
PRODID:-//MyApp//Calendar 1.0//EN
BEGIN:VEVENT
METHOD:PUBLISH
UID:49612@regionalniportaly.cz
DTSTAMP:20260422T212403Z
DTSTART;VALUE=DATE:20250125
DTEND;VALUE=DATE:20250126
SUMMARY:TOTÁLNÍ NASAZENÍ ve Vyškově
DESCRIPTION:Klubový koncert slánské legendy\, kapely Totální nasazení.Support: Dilemma in Cinema / punk - Slaný
LOCATION:Vyškov
END:VEVENT
END:VCALENDAR