BEGIN:VCALENDAR
VERSION:2.0
CALSCALE:GREGORIAN
PRODID:-//MyApp//Calendar 1.0//EN
BEGIN:VEVENT
METHOD:PUBLISH
UID:49451@regionalniportaly.cz
DTSTAMP:20260422T214146Z
DTSTART;VALUE=DATE:20250411
DTEND;VALUE=DATE:20250412
SUMMARY:Doga + Morčata na útěku
DESCRIPTION:HAF TOUR 2025 DOGA + MORČATA NA ÚTĚKUV rámci unikátního turné 11.4. se zastaví Doga s Morčaty v KD Drnovice u Vyškova!
LOCATION:Drnovice
END:VEVENT
END:VCALENDAR