BEGIN:VCALENDAR
VERSION:2.0
CALSCALE:GREGORIAN
PRODID:-//MyApp//Calendar 1.0//EN
BEGIN:VEVENT
METHOD:PUBLISH
UID:48941@regionalniportaly.cz
DTSTAMP:20260422T212614Z
DTSTART;VALUE=DATE:20241212
DTEND;VALUE=DATE:20241213
SUMMARY:Živý Betlém
DESCRIPTION:Pojďte s námi do Betléma! \nJeden z nejstarších příběhů\, o narození Ježíška\, v podání mladších a nejmladších členů divadelního souboru D.A.V.A Rousínov za doprovodu živé hudby.\nPřijďte si užít opravdu kouzelnou vánoční atmosféru!\nPředstavení vhodné pro celou rodinu!\nVyrážíme 12.12.\, v 19hod. :-)\n \nVíce o našem divadelním souboru zde: https://www.davarousinov.cz/
LOCATION:Rousínov
END:VEVENT
END:VCALENDAR