BEGIN:VCALENDAR
VERSION:2.0
CALSCALE:GREGORIAN
PRODID:-//MyApp//Calendar 1.0//EN
BEGIN:VEVENT
METHOD:PUBLISH
UID:48782@regionalniportaly.cz
DTSTAMP:20260423T145138Z
DTSTART;VALUE=DATE:20241119
DTEND;VALUE=DATE:20250216
SUMMARY:Zima na Hané
DESCRIPTION:S přicházející zimou\, kdy se dny krátí a venku je čím dál nevlídněji\, trávíme více času v teple domova. Pojďme si připomenout\, jak prožívali toto období naši předci. Nikdy nevěděli\, jak dlouhá a tuhá zima bude\, jestli jim vystačí zásoby jídla… Jaké asi bylo trávit dlouhé zimní večery bez elektřiny a dalších vymožeností moderní doby? Nahlédněme na zimu na hanáckém venkově\, která byla nejen časem odpočinku a výročních obyčejů\, ale také obdobím zpracovávání získaných surovin a dobou příprav na nový hospodářský rok.\nVýstava plná interaktivních prvků určitě zaujme ty nejmenší\, ale i hravé dospělé návštěvníky. Čeká na vás sněhulák\, vyšívání\, tkaní\, předení\, porcování prasete i dětská udírna. Můžete se zaposlouchat do nahrávek hanáckých příběhů na přástkách\, poslechnout si vzpomínku na zabíjačku nebo hanácké koledy.\n \nVýstava je spolufinancována městem Vyškov\n 
LOCATION:Vyškov
END:VEVENT
END:VCALENDAR