BEGIN:VCALENDAR
VERSION:2.0
CALSCALE:GREGORIAN
PRODID:-//MyApp//Calendar 1.0//EN
BEGIN:VEVENT
METHOD:PUBLISH
UID:48579@regionalniportaly.cz
DTSTAMP:20260422T195529Z
DTSTART;VALUE=DATE:20250125
DTEND;VALUE=DATE:20250126
SUMMARY:Rodinný ples pro malé i velké
DESCRIPTION:RODINNÝ PLES opravdu&nbsp\;pro celou rodinu!Přijďte si užít odpoledne a večer plný dobré živé hudby\, pobavit se u rodinných her\, ochutnat skvělé občerstvení i zažít napětí při losování tomboly.. a mnohem&nbsp\;více!&nbsp\;Zveme Vás již na třetí ročník plesu\, kde se můžete cítit&nbsp\;i obléct slavnostně\, ležérně nebo i přijít v masce :-) Prostě tak\, jak se cítíte dobře a pohodlně.Nečekejte dechovku\, naše osvědčená kapela Výlet hraje oblíbené\, československé hity.&nbsp\;&nbsp\;&nbsp\;&nbsp\;Aby si ples užila celá rodina\, bude vám k dispozici dětský koutek v salónku.Pro třetí a další dítě není třeba kupovat vstupenku\, má vstup zdarma.TĚŠÍME SE NA VÁS!&nbsp\;
LOCATION:Olšany
END:VEVENT
END:VCALENDAR