BEGIN:VCALENDAR
VERSION:2.0
CALSCALE:GREGORIAN
PRODID:-//MyApp//Calendar 1.0//EN
BEGIN:VEVENT
METHOD:PUBLISH
UID:48408@regionalniportaly.cz
DTSTAMP:20260422T214658Z
DTSTART;VALUE=DATE:20241201
DTEND;VALUE=DATE:20241202
SUMMARY:Pohádky pana Pohádky
DESCRIPTION:Divadelní pohádka v&nbsp\;podání Divadla KKVtipné zpracování známých pohádek O Budulínkovi a O Červené Karkulce zkušeného autora Jiřího Středy.Pro děti od 3 do 8 let.Předprodej on-line bude ukončen 30. listopadu 2024 v&nbsp\;18.30 h\, poté nákup vstupenky už jen na místě ½ hodiny před začátkem představení.
LOCATION:Ivanovice na Hané
END:VEVENT
END:VCALENDAR