BEGIN:VCALENDAR
VERSION:2.0
CALSCALE:GREGORIAN
PRODID:-//MyApp//Calendar 1.0//EN
BEGIN:VEVENT
METHOD:PUBLISH
UID:48351@regionalniportaly.cz
DTSTAMP:20260423T134650Z
DTSTART;VALUE=DATE:20241126
DTEND;VALUE=DATE:20241127
SUMMARY:Folklorní svět Františka Sušila
DESCRIPTION:
LOCATION:Vyškov
END:VEVENT
END:VCALENDAR