BEGIN:VCALENDAR
VERSION:2.0
CALSCALE:GREGORIAN
PRODID:-//MyApp//Calendar 1.0//EN
BEGIN:VEVENT
METHOD:PUBLISH
UID:46535@regionalniportaly.cz
DTSTAMP:20260422T214115Z
DTSTART;VALUE=DATE:20241005
DTEND;VALUE=DATE:20241006
SUMMARY:Muzikál Upírky
DESCRIPTION:A je to venku! 😍\nS novou divadelní sezónou přicházíme s novu hrou... nebo tak trochu staronovou? 😉🧐\nMuzikál UPÍRKY vypráví příběhy o stvoření nemrtvých\, jak jinak\, než s vtipem\, satirou i dojemnou něžností.\nTěšíme se na vás na premiéře\, 5. října\, již tradičně ve velkém sále Záložny v Rousínově !\n \n❗️❗️POZOR! Jelikož se Městská knihovna Rousínov stěhuje do nových prostor\, nebude možné zde zakoupit vstupenky na naše představení\, jak jste byli mnozí zvyklí 🙁\nProdej je tedy zatím možný pouze online nebo přímo na místě před představením. 
LOCATION:Rousínov
END:VEVENT
END:VCALENDAR