BEGIN:VCALENDAR
VERSION:2.0
CALSCALE:GREGORIAN
PRODID:-//MyApp//Calendar 1.0//EN
BEGIN:VEVENT
METHOD:PUBLISH
UID:46215@regionalniportaly.cz
DTSTAMP:20260422T213207Z
DTSTART;VALUE=DATE:20241214
DTEND;VALUE=DATE:20241215
SUMMARY:Marie Tilšarová & Kdo jsme my - adventní koncert
DESCRIPTION:PŘIJĎTE SI UŽÍT ADVENTNÍ KONCERT NAPLNĚNÝ RADOSTÍ A ŽIVOTEM. S vánočním punčem a cukrovím! :-)Srdečmě vás zveme na večer plný skvělé hudby.&nbsp\;Marie je písničkářka\, „inspirátorka“\, průvodkyně mindfulness (všímavosti)\, autorka motivačních karet&nbsp\;Všímavky&nbsp\;a průkopnice nového hudebního stylu\, s motem: "Co žiju zpívám\, co zpívám žiju". Skrze svou tvorbu předává návod\, jak do životů vrátit radost a jak najít vlastní hodnotu.Je také držitelka Porty 2023 a dalších ocenění.&nbsp\;S kapelou tvoří super energetické trio:Marie Tilšarová - zpěv\, kytara\, ukulelePavel Tilšar - basa\, perkuse a vše\, na co se dá hrát\, zpěvMartin Penič - všechny možné druhy fléten a saxofony\, zpěv&nbsp\;Součástí večera bude&nbsp\;adventní obchůdek produktů manželů Tilšarových a výrobků Olše.&nbsp\;Akce je vhodná&nbsp\;pro jednotlivce i celé rodiny. Dětský koutek v salónku.&nbsp\;
LOCATION:Olšany
END:VEVENT
END:VCALENDAR