BEGIN:VCALENDAR
VERSION:2.0
CALSCALE:GREGORIAN
PRODID:-//MyApp//Calendar 1.0//EN
BEGIN:VEVENT
METHOD:PUBLISH
UID:46170@regionalniportaly.cz
DTSTAMP:20260422T213231Z
DTSTART;VALUE=DATE:20241026
DTEND;VALUE=DATE:20241027
SUMMARY:Día De Los Muertos 2024
DESCRIPTION:Šestý ročník pestrobarevné mexické oslavy Día De Los Muertos v unikátním a autentickém prostředí na Panelce v Lulči!Tradiční svátek\, který oslavuje životy našich blízkých zemřelých v tom nejlepším slova smyslu!Nalaď se do mexických tradic a vychutnej si živou rytmickou latinsko-americkou hudbu Mariachi\, skvělé mexické jídlo a pití\, svíčky\, barevné lebky\, nebo typické oranžové květiny\, které zdobí oltáře mrtvých.Vystoupí kapela&nbsp\;Mariachi Espuelas\, která bude hrát&nbsp\;tradiční mexické&nbsp\;mariachi.Vyzdobte si i vy své tváře tradičním mexickým líčením “Catrina” a přineste si s sebou svíčku\, nebo fotku\, na koho rádi vzpomenete\, abychom společně vytvořili kouzelnou atmosféru tohoto svátku. Olééé&nbsp\;
LOCATION:Luleč
END:VEVENT
END:VCALENDAR