BEGIN:VCALENDAR
VERSION:2.0
CALSCALE:GREGORIAN
PRODID:-//MyApp//Calendar 1.0//EN
BEGIN:VEVENT
METHOD:PUBLISH
UID:45853@regionalniportaly.cz
DTSTAMP:20260422T214922Z
DTSTART;VALUE=DATE:20241010
DTEND;VALUE=DATE:20241011
SUMMARY:Pardon\, pane premiére
DESCRIPTION:Sídlo premiéra na Downing Street 10 zasáhne rodinná bomba!Vláda Jejího Veličenstva je rozhodnuta naplnit volební slib a chystá se zatočit se zábavním průmyslem a hazardem. Jenže má to jeden háček – na šéfa vládního kabinetu George Venablese se valí skandál.Ze skříní na Downing Street 10 nevypadávají jen političtí kostlivci\, ale i polonahé slečny. Sousto pro novináře\, munice pro opozici\, příležitost pro stranické odpůrce a k tomu všemu zvědavá manželka.Situace jako stvořená pro komediální žánr s pověstným anglickým humorem.Anglická komedie Edwarda Taylora s Petrem Nárožným v hlavní roli.Hrají: Petr Nárožný\, Máša Málková / Kateřina Pechová\, Jan Čenský / Martin Zahálka\, Zuzana Slavíková / Ilona Svobodová\, Jaromír Nosek / Jakub Štěpán / Martin Zahálka ml.\, Karolína Vágnerová / Andrea Daňková / Anna Jiřina DaňhelováAutor: Edward TaylorRežie: Vladimír Strnisko
LOCATION:Ivanovice na Hané
END:VEVENT
END:VCALENDAR