BEGIN:VCALENDAR
VERSION:2.0
CALSCALE:GREGORIAN
PRODID:-//MyApp//Calendar 1.0//EN
BEGIN:VEVENT
METHOD:PUBLISH
UID:45756@regionalniportaly.cz
DTSTAMP:20260422T213252Z
DTSTART;VALUE=DATE:20241102
DTEND;VALUE=DATE:20241103
SUMMARY:Koncert kapely D.N.A.
DESCRIPTION:Olše vás srdečně zve na koncert D.N.A.\,&nbsp\;která&nbsp\;nás oblaží svou vlastní\, nezaměnitelnou hudbou plnou energie\, v chladnějších podzimních dnech.&nbsp\;Užijte si skvělou autorskou hudbu kapely v novém\, akusticky vyladěném sále kulturního domu v Olšanech&nbsp\;u Rousínova.&nbsp\;Akce je vhodná pro jednotlivce i celé rodiny. Děti&nbsp\;mohou využít dětský koutek v salónku.&nbsp\;D.N.A. Brno je ojedinělé multiinstrumentální seskupení s originálními texty\, vysokou uměleckou i interpretační úrovní\, nezvykle širokým žánrovým záběrem!.
LOCATION:Olšany
END:VEVENT
END:VCALENDAR