BEGIN:VCALENDAR
VERSION:2.0
CALSCALE:GREGORIAN
PRODID:-//MyApp//Calendar 1.0//EN
BEGIN:VEVENT
METHOD:PUBLISH
UID:45614@regionalniportaly.cz
DTSTAMP:20260422T225733Z
DTSTART;VALUE=DATE:20250127
DTEND;VALUE=DATE:20250128
SUMMARY:Techtle Mechtle - All inclusive Bibione
DESCRIPTION:Nejúspěšnější česká travesti show&nbsp\;Techtle Mechtle&nbsp\;přiváží zbrusu nové divadelní představení s&nbsp\;názvem&nbsp\;"All inclusive Bibione" poprvé do DRNOVIC U VYŠKOVA.&nbsp\;Techtle Mechtle revue&nbsp\;je v&nbsp\;současné době nejúspěšnější česká show na poli divadelní scény. V&nbsp\;podání&nbsp\;Techtle Mechtle&nbsp\;se totiž vždy jedná o propracované divadelní představení s&nbsp\;výpravnou scénou\, více jak 80ti kostýmy a&nbsp\;dějovou linkou. Všechna představení jsou jednou velkou komedií\, a to od začátku až do konce. Má to jen jeden háček – všechny role\, a to včetně těch dámských\, tu hrají pouze muži a ti jsou navíc k&nbsp\;nerozeznání od skutečných žen. Pánové&nbsp\;Lukáš\, Martin\, Nikolas a Saša&nbsp\;společně s&nbsp\;tanečníky&nbsp\;Štěpánem\, Jarkem\, Sayem a Danem&nbsp\;pro Vás tentokrát připravili další nadupanou show.&nbsp\;Jak už samotný název "All inclusive Bibione" napovídá\, představení bude nabité letní atmosférou\, sluncem\, mořem a hlavně – pořádnou dávkou českého humoru. Co všechno se může stát\, když se typicky česká rodina na úsporném režimu vypraví na cestu do Bibione\, aby poprvé v&nbsp\;živote viděla moře? Mají si vůbec manželé po 36-ti letech soužití na společné dovolené ještě co povědět? Podaří se jim oživit při západu slunce jiskru jejich skomírajícího vztahu a nebo zbytky jejich vzájemného pochopení zmizí na vždy na dně moře mezi chaluhy a chobotnice? Volné pokračování divácky velmi úspěšného představení "Dokud nás smrt nerozdělí" přichází v&nbsp\;podobě "All inclusive Bibione".&nbsp\;Pořady těchto pánů jsou vyprodána v&nbsp\;řadě měst i několik měsíců předem\, a to především proto\, že se diváci během představení ze srdce zasmějí. Představení jsou kombinací travesti show\, muzikálu\, cabaretu\, taneční show\, zábavného pořadu i klasické činohry\, což je žánrově sice řadí mezi nezařaditelné ale i přesto mezi jedny z&nbsp\;nejnavštěvovanějších.
LOCATION:Drnovice
END:VEVENT
END:VCALENDAR