BEGIN:VCALENDAR
VERSION:2.0
CALSCALE:GREGORIAN
PRODID:-//MyApp//Calendar 1.0//EN
BEGIN:VEVENT
METHOD:PUBLISH
UID:45080@regionalniportaly.cz
DTSTAMP:20260422T212433Z
DTSTART;VALUE=DATE:20240831
DTEND;VALUE=DATE:20240901
SUMMARY:Rosnička 2024 after na Panelce
DESCRIPTION:After dva měsíce po festivalu. Nejlepší festival ve Svitavách na nejlepším kiosku na světě.
LOCATION:Luleč
END:VEVENT
END:VCALENDAR