BEGIN:VCALENDAR
VERSION:2.0
CALSCALE:GREGORIAN
PRODID:-//MyApp//Calendar 1.0//EN
BEGIN:VEVENT
METHOD:PUBLISH
UID:44644@regionalniportaly.cz
DTSTAMP:20260422T214912Z
DTSTART;VALUE=DATE:20240829
DTEND;VALUE=DATE:20240830
SUMMARY:Pod svícnem – Mohli si za to sami
DESCRIPTION:Iniciativa bojující za hrdiny\, kteří si prošli peklem domácího násilí.Vážně i nevážně o domácím násilí\, jak se schvalují zákony a proč to někdy (ne)drhne. Všechno řeknem a neberem si servítky.&nbsp\;Účinkující:Michaela Studená / spoluzakladatelka Pod svícnem a PRistka&nbsp\;Barbora Urbanová / spoluzakladatelka Pod svícnem a poslankyně&nbsp\;jako moderátor Martin Bartkovský / šéfredaktor časopisu Reflex&nbsp\;&nbsp\;
LOCATION:Luleč
END:VEVENT
END:VCALENDAR