BEGIN:VCALENDAR
VERSION:2.0
CALSCALE:GREGORIAN
PRODID:-//MyApp//Calendar 1.0//EN
BEGIN:VEVENT
METHOD:PUBLISH
UID:44408@regionalniportaly.cz
DTSTAMP:20260422T214206Z
DTSTART;VALUE=DATE:20240721
DTEND;VALUE=DATE:20240722
SUMMARY:Jazz k nedělnímu jídlu
DESCRIPTION:Hláška pohoda jazz nabere v neděli 21. července svého doslovného významu. Bude totiž pohoda\, jazz a suprový jídlo. Počasí objednaný.Kulturních prken a hudebních nástrojů se chopí skutečně nadějní mlaďáci z Brna - kapela Renegatz. Ti fúzují jazz\, rock i funk stejně jako Šárka jídelní talíře na nejlepším kiosku na světě.Jejich very good mjůzik hýr: www.soundcloud.com/kapela-renegatz__&nbsp\;Vstupné je zdarma\, ale můžeš přispět na kapelu zakoupení vstupenky za kilo!
LOCATION:Luleč
END:VEVENT
END:VCALENDAR