BEGIN:VCALENDAR
VERSION:2.0
CALSCALE:GREGORIAN
PRODID:-//MyApp//Calendar 1.0//EN
BEGIN:VEVENT
METHOD:PUBLISH
UID:44407@regionalniportaly.cz
DTSTAMP:20260422T212527Z
DTSTART;VALUE=DATE:20240725
DTEND;VALUE=DATE:20240726
SUMMARY:1+1 = 3
DESCRIPTION:Známá situační komedie. John Brown je taxikář\, kterému se kvůli přísně dodržovanému harmonogramu daří léta utajovat skutečnost\, že má dvě manželky a&nbsp\;že vede dvojí život. Jednoho dne se však John kvůli okolnostem dostane do nemocnice a&nbsp\;na policii. Nepodaří se mu tak dodržet svůj časový harmonogram a&nbsp\;rozjíždí se velký kolotoč lží\, do kterých se John stále více zamotává. Když se konečně rozhodne ke všemu přiznat a&nbsp\;poprvé říká pravdu\, nikdo mu však nevěří...&nbsp\;Hrají:Jiří ResslerTomáš SagherSandra RiedlováPavla VitázkováJan BrožekKarel MišurecJakub Uličník&nbsp\;Všichni kromě Sandry herci Městského divadla Brno :)&nbsp\;Hodnocení: 86%
LOCATION:Luleč
END:VEVENT
END:VCALENDAR