BEGIN:VCALENDAR
VERSION:2.0
CALSCALE:GREGORIAN
PRODID:-//MyApp//Calendar 1.0//EN
BEGIN:VEVENT
METHOD:PUBLISH
UID:44247@regionalniportaly.cz
DTSTAMP:20260422T212424Z
DTSTART;VALUE=DATE:20240801
DTEND;VALUE=DATE:20240802
SUMMARY:Na stojáka!
DESCRIPTION:Prokrastince se přetavila ve skutečnost a Na stojáka konečně bude i u nás na Panelce. Ne\, že by to v minulých letech nešlo\, jen jsme to prostě nikdy nedotáhli do konce :).&nbsp\;O to víc se těšíme letos. Tak pokud to máte podobně\, tak jupí.&nbsp\;Karel Hynek\, Tom Měcháček a nekorektní kouzelník Richard Nedvěd.
LOCATION:Luleč
END:VEVENT
END:VCALENDAR