BEGIN:VCALENDAR
VERSION:2.0
CALSCALE:GREGORIAN
PRODID:-//MyApp//Calendar 1.0//EN
BEGIN:VEVENT
METHOD:PUBLISH
UID:44051@regionalniportaly.cz
DTSTAMP:20260422T201100Z
DTSTART;VALUE=DATE:20240816
DTEND;VALUE=DATE:20240817
SUMMARY:Tanečný večer v Luhačovicách
DESCRIPTION:Srdečne Vás všetkých pozývame na 𝑻𝒂𝒏𝒆𝒄̌𝒏𝒚́ 𝒗𝒆𝒄̌𝒆𝒓   so 𝐙𝐚́𝐡𝐨𝐫𝐢𝐞𝐧𝐤𝐨𝐮 a jej hosťom legendou moravskej dychovky 𝐉𝐢𝐫̌𝐢́𝐦 𝐇𝐞𝐥𝐚́𝐧𝐨𝐦 do Kultúrneho a kongresového centra 𝐋𝐮𝐡𝐚𝐜̌𝐨𝐯𝐢𝐜𝐞   v piatok 𝟏𝟔.𝟖. 𝟐𝟎𝟐𝟒 so začiatkom o 19:00 v sále Rondo. Príďte spoločne s nami prežiť príjemný večer\, posedieť pri výbornej muzike\, vínku\, či pivku s kamarátmi\, zatancovať si a určite i zaspievať.       Tešíme sa na Vás.  Vstupenky   pre zájazdy i jednotlivcom na 𝟎𝟎𝟒𝟐𝟏 𝟗𝟎𝟓 𝟗𝟒𝟗 𝟑𝟔𝟎alebo 𝐨𝐧𝐥𝐢𝐧𝐞 predaj: https://www.luhacovice.eu/6609a-tanecni-zabava-dechova...\nNa podujatie organizujeme 𝐳𝐚́𝐣𝐚𝐳𝐝 𝐚𝐮𝐭𝐨𝐛𝐮𝐬𝐨𝐦   (max. počet 50) spojený s prehliadkou 𝐳𝐚́𝐦𝐤𝐮 𝐌𝐢𝐥𝐨𝐭𝐢𝐜𝐞  \, 𝐯𝐞𝐜̌𝐞𝐫𝐨𝐮   v kúpeľnom meste a tanečným večerom. V prípade záujmu 𝟎𝟎𝟒𝟐𝟏 𝟗𝟎𝟓 𝟗𝟒𝟗 𝟑𝟔𝟎.
LOCATION:Vyškov
END:VEVENT
END:VCALENDAR