BEGIN:VCALENDAR
VERSION:2.0
CALSCALE:GREGORIAN
PRODID:-//MyApp//Calendar 1.0//EN
BEGIN:VEVENT
METHOD:PUBLISH
UID:43895@regionalniportaly.cz
DTSTAMP:20260423T134952Z
DTSTART;VALUE=DATE:20240702
DTEND;VALUE=DATE:20240929
SUMMARY:Obrazy Aleny Cigánkové
DESCRIPTION:Vernisáž výstavy v úterý 2. července 2024 v 16:00 hodin\n \nsrdečně jste zváni\n \nTvorbu Aleny Cigánkové\, členky vyškovského maňáskového divadélka Sokolík\, definuje  škála teplých barev\, které nejlépe souzní s jejími pocity. Námětem jejích obrazů není jen krajina v různých ročních obdobích\, ale i památky\, staré domy či ulice. Portrétní malba v jejím podání je prostoupena melancholií\, ráda má i květinová aranžmá nebo kombinaci suchých květů doplněných malbou.\n \n 
LOCATION:Vyškov
END:VEVENT
END:VCALENDAR