BEGIN:VCALENDAR
VERSION:2.0
CALSCALE:GREGORIAN
PRODID:-//MyApp//Calendar 1.0//EN
BEGIN:VEVENT
METHOD:PUBLISH
UID:43866@regionalniportaly.cz
DTSTAMP:20260422T214829Z
DTSTART;VALUE=DATE:20240626
DTEND;VALUE=DATE:20240627
SUMMARY:Den otevřených dveří Muzea Vyškovska
DESCRIPTION:26.06. 2024 Muzeum Vyškovska 10:00-16:00 hodin\nškolní skupiny již od 8:00  \n \nDen otevřených dveří Muzea Vyškovska\n \nOpět po roce Vás srdečně zveme na Den otevřených dveří Muzea Vyškovska s bohatým kultuním a zábavným programem. Můžete si zdarma individuálně prohlédnout otevřené stálé expozice a právě probíhající výstavy nebo absolvovat v odpoledních hodinách komentovanou prohlídku zámku a zámeckého sklepení s naší historičkou umění.
LOCATION:Vyškov
END:VEVENT
END:VCALENDAR