BEGIN:VCALENDAR
VERSION:2.0
CALSCALE:GREGORIAN
PRODID:-//MyApp//Calendar 1.0//EN
BEGIN:VEVENT
METHOD:PUBLISH
UID:43575@regionalniportaly.cz
DTSTAMP:20260422T212335Z
DTSTART;VALUE=DATE:20240824
DTEND;VALUE=DATE:20240825
SUMMARY:Noc v DinoParku
DESCRIPTION:
LOCATION:Vyškov
END:VEVENT
END:VCALENDAR