BEGIN:VCALENDAR
VERSION:2.0
CALSCALE:GREGORIAN
PRODID:-//MyApp//Calendar 1.0//EN
BEGIN:VEVENT
METHOD:PUBLISH
UID:43098@regionalniportaly.cz
DTSTAMP:20260422T201049Z
DTSTART;VALUE=DATE:20240719
DTEND;VALUE=DATE:20240720
SUMMARY:Mucha & Ventolin na Panelce!
DESCRIPTION:Vražedná kombinace písničkářky a punkerky Muchy a electronic&nbsp\;dance nářezníka Ventolina! Bude mejdan léta\, to ti teda povídám.O warm-up a after se postará DJ Myslivec.
LOCATION:Luleč
END:VEVENT
END:VCALENDAR