BEGIN:VCALENDAR
VERSION:2.0
CALSCALE:GREGORIAN
PRODID:-//MyApp//Calendar 1.0//EN
BEGIN:VEVENT
METHOD:PUBLISH
UID:43095@regionalniportaly.cz
DTSTAMP:20260422T231010Z
DTSTART;VALUE=DATE:20240822
DTEND;VALUE=DATE:20240823
SUMMARY:Seriš and Teller - Improvizace
DESCRIPTION:Divadelníci a komici Palo Seriš a Filip&nbsp\;Teller\, autoři inscenace Čecháčci a Čoboláci\, jdou opět společně na pódium.Tentokrát však bez jakékoliv přípravy. Slovák a Čech\, bývalí spolužáci z JAMU\, oba hrající ve svém rodném jazyce\, se pokusí získat si publikum „tu a teraz“.
LOCATION:Luleč
END:VEVENT
END:VCALENDAR