BEGIN:VCALENDAR
VERSION:2.0
CALSCALE:GREGORIAN
PRODID:-//MyApp//Calendar 1.0//EN
BEGIN:VEVENT
METHOD:PUBLISH
UID:42829@regionalniportaly.cz
DTSTAMP:20260422T213242Z
DTSTART;VALUE=DATE:20240815
DTEND;VALUE=DATE:20240816
SUMMARY:Kecy a politika na Panelce 2024
DESCRIPTION:Legendární večer s ještě legendárnější talk- show je opět u nás na Panelce!&nbsp\;Přijeďte si vychutnat Petrosův břitký humor\, Bohumilovu mírumilovnost\, vyhlášenou mezinárodní kuchyni\, dokonalé osvěžení v prvorepublikovém zatopeném lomu a následnou afterparty\, jak se patří.V ceně vstupenky welcome drink ve formě moravské slivovice.Kdo chce přijet obytňákem\, tak hned vedle našeho nejlepšího kiosku na světě je velké parkoviště bez poplatku.Kdo chce punk\, ať si vezme stan (místo si rezervujte na telefonu níže).Kdo chce zařídit standardní ubytování\, ať se hlásí na telefonu +420 774 021 774Jídlo a pití netřeba\, vše se přece koná na Panelce.Deku a plavky s sebou!&nbsp\;Za tým PanelkaŠárka a Ondřej
LOCATION:Luleč
END:VEVENT
END:VCALENDAR