BEGIN:VCALENDAR
VERSION:2.0
CALSCALE:GREGORIAN
PRODID:-//MyApp//Calendar 1.0//EN
BEGIN:VEVENT
METHOD:PUBLISH
UID:42469@regionalniportaly.cz
DTSTAMP:20260422T232756Z
DTSTART;VALUE=DATE:20241024
DTEND;VALUE=DATE:20241025
SUMMARY:ŠVANCI  - JÁ SU JÁ SHOW
DESCRIPTION:Zábavný pořad s legendou fotbalu Petrem Švancarou. Čekají Vás vtipné historky z kariéry fotbalisty\, z velkolepé rozlučky za Lužánkami\, návštěv různých zábavních pořadů\, až po účast v reality show Survivor. Dále se těšte na prostor pro otázky\, autogramiádu\, focení a mnoho dalšího...
LOCATION:Ivanovice na Hané
END:VEVENT
END:VCALENDAR