BEGIN:VCALENDAR
VERSION:2.0
CALSCALE:GREGORIAN
PRODID:-//MyApp//Calendar 1.0//EN
BEGIN:VEVENT
METHOD:PUBLISH
UID:42143@regionalniportaly.cz
DTSTAMP:20260422T195427Z
DTSTART;VALUE=DATE:20240503
DTEND;VALUE=DATE:20240504
SUMMARY:Zlatá horečka - divadelní představení
DESCRIPTION:Vážení diváci\, čeká nás další premiéra! A protože se letošní oslavy 20. výročí souboru nesou ve westernovém duchu\, připravil náš Rejža David Kříž představení Zlatá horečka\, a to v podání naší "davácké mládeže".\nNebude chybět zpěv\, tanec\, trochu napětí ale také spoustu humoru.Přijďte podpořit naši mladou krev v pátek\, 3. května do rousínovské Záložny! Představení je vhodné pro celou rodinu!
LOCATION:Rousínov
END:VEVENT
END:VCALENDAR