BEGIN:VCALENDAR
VERSION:2.0
CALSCALE:GREGORIAN
PRODID:-//MyApp//Calendar 1.0//EN
BEGIN:VEVENT
METHOD:PUBLISH
UID:42073@regionalniportaly.cz
DTSTAMP:20260422T214605Z
DTSTART;VALUE=DATE:20240808
DTEND;VALUE=DATE:20240809
SUMMARY:Miloš Knor – Jiná doba na Panelce
DESCRIPTION:Svět se stále mění a doba je pořád jiná. Každý dnem\, hodinou\, okamžikem. Nic není jak bylo a nic nebude jak je. Humorný pohled na civilizační pokrok vám Miloš Knor ve své 90 minutové show popíše na několika příkladech. Jaký byl život bez telefonu\, stará dobrá analogová hádka a zachrání nás ekofašismus? Potřebuje auto tlačítko se snižováním výkonu? Bylo líp? Je? Bude?Toto a mnohem více již brzy ve zbrusu nové Stand-up comedy show Miloše Knora.! Vhodné pro všechny věkové kategorie od 18 let. I když\, teď je všechno jinak !
LOCATION:Luleč
END:VEVENT
END:VCALENDAR