BEGIN:VCALENDAR
VERSION:2.0
CALSCALE:GREGORIAN
PRODID:-//MyApp//Calendar 1.0//EN
BEGIN:VEVENT
METHOD:PUBLISH
UID:42064@regionalniportaly.cz
DTSTAMP:20260422T231105Z
DTSTART;VALUE=DATE:20240926
DTEND;VALUE=DATE:20240929
SUMMARY:Oktoberfest 2024 na Panelce
DESCRIPTION:𝐔𝐧𝐠𝐥𝐚𝐮𝐛𝐥𝐢𝐜𝐡!&nbsp\;&nbsp\;Neuvěřitelné! Čeká nás již 5. ročník Oktoberfestu na Panelce. To je fofr.- bavorské speciality- grilování- mnichovská piva i speciál od pivovaru Slavkov- vyleštěné tupláky&nbsp\;S sebou dirndle\, Lederhoseny\, kloboučky nebo kostkované košile!
LOCATION:Luleč
END:VEVENT
END:VCALENDAR