BEGIN:VCALENDAR
VERSION:2.0
CALSCALE:GREGORIAN
PRODID:-//MyApp//Calendar 1.0//EN
BEGIN:VEVENT
METHOD:PUBLISH
UID:42061@regionalniportaly.cz
DTSTAMP:20260422T194148Z
DTSTART;VALUE=DATE:20240530
DTEND;VALUE=DATE:20240531
SUMMARY:Duo Docentky
DESCRIPTION:Duo docentky je „akademický stand-up“\, za kterým stojí Lucie Jarkovská a Kateřina Lišková.Tato dvojice socioložek z Masarykovy univerzity se rozhodla vzít do vlastních rukou prezentaci genderového výzkumu směrem na veřejnost.O feminismu\, emancipaci a nerovnostech ve společnosti. Věnují se výzkumu v oblasti genderu a sexuality\, píší akademické články a vloni jim vyšla společná kniha Feministkou snadno a rychle.Ačkoliv u těchto témat není příliš do smíchu\, dámy slibují\, že příští čtvrtek 30. května se budeme popadat za na Panelce najezená břicha.
LOCATION:Luleč
END:VEVENT
END:VCALENDAR