BEGIN:VCALENDAR
VERSION:2.0
CALSCALE:GREGORIAN
PRODID:-//MyApp//Calendar 1.0//EN
BEGIN:VEVENT
METHOD:PUBLISH
UID:41992@regionalniportaly.cz
DTSTAMP:20260422T225322Z
DTSTART;VALUE=DATE:20240711
DTEND;VALUE=DATE:20240712
SUMMARY:Program na záchranu mužů
DESCRIPTION:Možná to nikdo neví\, a možná je to tak dobře\, protože projekt je utajený. Jistá část vědecké veřejnosti se totiž domnívá\, že muži melou z&nbsp\;posledního. Že se na rozdíl od komunikativních a flexibilních žen do moderního světa nehodí\, protože se mu nedokáží přizpůsobit.Muži mají čím dál míň možností se předvést nebo něco velkého vykonat. Jejich svaly a pěsti dnes zastupují všelijaké stroje. Severní i Jižní pól jsou dobyty – i vše ostatní na této planetě. Nikoho není třeba chránit před divokou zvěří\, protože divoká zvěř neexistuje. Muži pomalu opouštějí své tradiční pozice. Některé indicie dokonce připouštějí\, že degenerují. Propadají trudnomyslnosti a zmaru. A to je škoda.A tak vznikl tajný program na záchranu mužů. V&nbsp\;Národním ústavě duševního zdraví v&nbsp\;Klánovicích u Prahy jsou s&nbsp\;ním nejdál. Pojďme se podívat do Sexuologické laboratoře SL2 jaké programy na záchranu mužů se jim zatím podařilo vyvinout.&nbsp\;Napínavá komedie s&nbsp\;překvapivým koncem.Hrají Roman Zach a Eva LeimbergerováScénář a režie Luboš Balák(premiéra 19. červen 2020 Komorní divadlo Kalich Praha).
LOCATION:Luleč
END:VEVENT
END:VCALENDAR