BEGIN:VCALENDAR
VERSION:2.0
CALSCALE:GREGORIAN
PRODID:-//MyApp//Calendar 1.0//EN
BEGIN:VEVENT
METHOD:PUBLISH
UID:41830@regionalniportaly.cz
DTSTAMP:20260422T195714Z
DTSTART;VALUE=DATE:20240613
DTEND;VALUE=DATE:20240614
SUMMARY:Přepište dějiny na Panelce
DESCRIPTION:Michal Stehlík a Martin Groman se svým hodnotným\, vtipným a edukačním podcastem Přepište dějiny se vracejí&nbsp\;na Panelku.Klement papírový\, filmový i bronzový. Prezidentem byl skoro nejkratší dobu ze všech. Přesto dodnes zůstává symbolem totality. Jak se měnil obraz Klementa Gottwalda ve veřejném prostoru? Co jeho sochy\, čestná občanství\, ulice\, ale také filmy\, seriály\, nebo třeba i bankovky? Jaké byly jejich peripetie?
LOCATION:Luleč
END:VEVENT
END:VCALENDAR