BEGIN:VCALENDAR
VERSION:2.0
CALSCALE:GREGORIAN
PRODID:-//MyApp//Calendar 1.0//EN
BEGIN:VEVENT
METHOD:PUBLISH
UID:41470@regionalniportaly.cz
DTSTAMP:20260423T163222Z
DTSTART;VALUE=DATE:20240508
DTEND;VALUE=DATE:20240509
SUMMARY:Habrovanské otevírání šoupátek
DESCRIPTION:
LOCATION:Habrovany
END:VEVENT
END:VCALENDAR