BEGIN:VCALENDAR
VERSION:2.0
CALSCALE:GREGORIAN
PRODID:-//MyApp//Calendar 1.0//EN
BEGIN:VEVENT
METHOD:PUBLISH
UID:41176@regionalniportaly.cz
DTSTAMP:20260422T212517Z
DTSTART;VALUE=DATE:20240614
DTEND;VALUE=DATE:20240621
SUMMARY:Rousínovský divadelní a folklorní festival
DESCRIPTION:Pátý ročník Rousínovského divadelního a folklorního festivalu už se blíží!\nA letošní program bude opravdu nadupaný! Daniel Hůlka\, Lukáš Langmajer\, Divadlo Kalich\, Ensemble Opera Diversa\, D.A.V.A Rousínov\, ProArt\, Sušilův folklorní den\, řemeslné odpoledne s MASkou\, pohádkový park\,... a spoustu dalšího!\nTýden plný zážitků\, kultury a setkávání!  \nVíce info a podrobnější program najdete na našich webových stránkách https://www.rdffestival.cz/ \nTIP: Pokud se chystáte navštívit více představení\, vyplatí se vám týdenní festivalová vstupenka za zvýhodněnou cenu! https://goout.net/cs/rousinovsky-divadelni-a-folklorni-festival-2024/szympyw/\nPozor\, jejich počet je však omezen!\n 
LOCATION:Rousínov
END:VEVENT
END:VCALENDAR