BEGIN:VCALENDAR
VERSION:2.0
CALSCALE:GREGORIAN
PRODID:-//MyApp//Calendar 1.0//EN
BEGIN:VEVENT
METHOD:PUBLISH
UID:40565@regionalniportaly.cz
DTSTAMP:20260422T195417Z
DTSTART;VALUE=DATE:20240504
DTEND;VALUE=DATE:20240505
SUMMARY:Májová Hard párty vol. 1
DESCRIPTION:Přijďte s náma oslavit příchod jara na vymazlenou párty plnou kvalitní muziky!\nFans nu-metalu\, hardcoru\, crossoveru a dalších hrubozrnných škatulí se mají na co těšit.\n\nDražovice u Vyškova přivítají nejlepší evropský tribute legendárních Korn. Po úspěšné zahraniční štaci se kapela vrací na minitour po ČR\, které zahrnuje i naši akci!\nhttps://m.youtube.com/@kornsktributeband\n\nDalší na seznamu je hardcorová nakládačka od ostřílených Crouch\, které netřeba dlouze představovat. Svoje hácéčko staré školy\, drtí už přes dekádu\, během které natočili dvě alba (třetí za dveřmi) a předskočili největším hvězdám žánru.\nhttps://bandzone.cz/crouch\n\nSvůj set nám naservírují i metal/rap/corový Mr.Dynaboom. Kapela slaví dvacet let na scéně a před velkolepým výročním koncertem v domovských Žabčicích přijedou se svou energií nabitou show rozeskákat i dražovický sál!\nhttps://youtu.be/vL8nS-8uU8Q?si=fe4_YiXrHWcLC4UE\n\n\nČtvrtá na seznamu je domácí Caldera. Jejich set zahrnuje pecky od Sepultury\, Anthrax\, Machine head a dalších legend v parádním provedení.\nhttps://youtu.be/LLz8-3ciScU?si=yvuor58bZGxHHGBd\n\nAkce se koná v Hospodě u Toma v Dražovicích mezi Vyškovem\, Rousínovem a Bučovicemi. Kromě sálu\, kde bude probíhat koncert\, můžete zakempit i na zahrádce\, tam na vás bude čekat bohatý výběr jídla\, chlast poteče proudem (jarní drinky\, točený pivo a solidní výběr lihovin) a další vychytávky. Pořádná jarní párty se super muzikou!! Těšte se!
LOCATION:Dražovice
END:VEVENT
END:VCALENDAR