BEGIN:VCALENDAR
VERSION:2.0
CALSCALE:GREGORIAN
PRODID:-//MyApp//Calendar 1.0//EN
BEGIN:VEVENT
METHOD:PUBLISH
UID:39127@regionalniportaly.cz
DTSTAMP:20260423T230633Z
DTSTART;VALUE=DATE:20240206
DTEND;VALUE=DATE:20240512
SUMMARY:Víra v tradici
DESCRIPTION:Víra v tradici/Faith in tradition\nVýstava představuje zvyky\, tradice i řemeslné postupy jižní Moravy\, z nichž některé jsou zapsány nejenom do Seznamu nemateriálních statků tradiční lidové kultury České republiky\, ale také na Reprezentativní seznam UNESCO.\nDozvíte se tak například\, kde se udržuje tradice Hroznové kozy\, jakou podobu má dívčí jarní obchůzka na Smrtnou neděli v Josefově na Hodonínsku\, nebo čím je výjimečná mariánská pouť v Žarošicích. Uvidíte\, jak vypadají tkané výrobky z tzv. činovati\, či jaké podoby mohou mít Jidáši na Bučovicku. Sami si budete moci vyzkoušet pískem vysypávané ornamenty\, které v minulosti zdobily chodníky na Kyjovsku.
LOCATION:Vyškov
END:VEVENT
END:VCALENDAR