BEGIN:VCALENDAR
VERSION:2.0
CALSCALE:GREGORIAN
PRODID:-//MyApp//Calendar 1.0//EN
BEGIN:VEVENT
METHOD:PUBLISH
UID:39048@regionalniportaly.cz
DTSTAMP:20260422T212624Z
DTSTART;VALUE=DATE:20240329
DTEND;VALUE=DATE:20240330
SUMMARY:WE LOVE THE 90´s & MC ERIK
DESCRIPTION:WE LOVE THE 90´s &amp\; MC ERIKPo vydařené první edici party WE LOVE THE 90'S přivážíme její druhé pokračování.Exkluzivním hostem této party bude legendární člen dua MC Erik a Barbara DJ MC ERIK\, který se představí se speciálním dj setem a zahraje nejen to nejlepší z devadesátek\, ale i ty nej hity této oblíbené devadesátkové formace jako u canť stop\, summer night a další + autogramiáda s focením.Celý klub bude vyzdoben originálními retro dekoracemi\, těšit se můžete na stylový retro fotokoutek s retro doplňky a promotýmem v retro outfitu.Bavit vás budou party maskoti v nadživotní velikosti z oblíbených seriálů a videoher 80tých a 90tých let.Po celou noc hrajeme výhradně hity diskoték 80 a 90 let a milénia a to od dje Boba\, Spice Girls\, Fun Factory\, Backstreet Boys\, Michaela Jacksona a spousty dalších.z mixem - Dj Mc Erik - (Mc Erik &amp\; Barbara)suport - Deejay Fanatic (resident partyfactory.cz
LOCATION:Vyškov
END:VEVENT
END:VCALENDAR