BEGIN:VCALENDAR
VERSION:2.0
CALSCALE:GREGORIAN
PRODID:-//MyApp//Calendar 1.0//EN
BEGIN:VEVENT
METHOD:PUBLISH
UID:39047@regionalniportaly.cz
DTSTAMP:20260422T232858Z
DTSTART;VALUE=DATE:20240419
DTEND;VALUE=DATE:20240420
SUMMARY:Křest nového alba DARK GAMBALLE
DESCRIPTION:Zveme vás na křest nového alba Dark Gamballe "Dobrý lhář" v klubu Space ve Vyškově\, Dědicích.\nJako ctění hosté vystoupí legendární Ostravská mlátička Malignant Tumour a dance metaloví Denoi z Brna! 🤘\n\n\nDark Gamballe je crossoverová kapela hrající od počátku devadesátých let\, mající na svém kontě 14 studiových alb a stovky koncertů.\n\nVelkou zbraní skupiny je dokonale vybroušený zvuk\, špičkové výkony všech muzikantů\, hitové ambice písní\, které jsou podpořeny neopakovatelnou rozmanitostí a fantazií\, skvělými českými texty a precizním vokálem.\n\nNěkolik jejích alb\, včetně aktuální desky Romance panenky a kladiva\, bylo nominováno mezi tři nejlepší Rockové počiny roku v prestižní anketě Akademie populární hudby ANDĚL.\n\nAktuální deska též získala ocenění Album roku 2021 na Českých výročních rockových Cenách Břitva.\n\nPravidelně se účastní největších domácích festivalů Masters of Rock\, Metalfest a spousty dalších...\n\nDENOI \n\nje čtyřčlenná moderní rocková skupina\, založena roku 2015 v Brně. Hlavní vizí jsou živá vystoupení a poutavá show. V současnosti vystupují na různých místech České republiky v Polsku a na Ukrajině.  Mají za sebou také účast na velkých evropských festivalech jako “Woodstock Poland”\, ukrajinský “Faine Misto” nebo support pro skupinu Disturbed v Praze. V roce 2022 se kapela vydává na miniturné s vítězem Eurovize Kalush Orchestra a Horkýže slíže.\n\nhttps://www.youtube.com/watch?v=AI9JzZRMWXU\n\nhttps://www.youtube.com/watch?v=orqdzqDL2\n\nMALIGNANT TUMOUR \n\npůsobí na hudební scéně od roku 1991 a byl jednou z prvních kapel hrajících extrémní podobu metalu v ČR. Za svou třicetiletou kariéru mají na svém kontě přes 1000 koncertů na třech světových kontinentech a řadu kvalitních a uznávaných hudebních nosičů\, z nichž desky IN FULL SWING (2008)\, EARTHSHAKER (2010) a THE METALLIST (2016) získaly vysoce kladný ohlas kritiky\, což bylo mimo jiné ohodnoceno i soškou Anděla v kategorii Hard and Heavy. Bystrému posluchači jistě neunikl důraz na netradiční videoklipy\, z nichž jeden získal ocenění „videoklip desetiletí“. V současné sestavě (Bilos – kytara/zpěv\, Šimek basa/zpěv\, Bohdič bicí\, Korál kytara/zpěv) trhají koule\, nakopávají prdele a hlavně prezentují zbrusu novou porci jejich špinavého metalického rock´n´rollu v podobě nové desky THE METALLIST(2016). A příběh pokračuje…\n\nhttps://www.youtube.com/watch?v=0Uv4WBBj9VI\n\nhttps://www.youtube.com/results?search_query=malignant+tumour
LOCATION:Vyškov
END:VEVENT
END:VCALENDAR