BEGIN:VCALENDAR
VERSION:2.0
CALSCALE:GREGORIAN
PRODID:-//MyApp//Calendar 1.0//EN
BEGIN:VEVENT
METHOD:PUBLISH
UID:38093@regionalniportaly.cz
DTSTAMP:20260422T125619Z
DTSTART;VALUE=DATE:20231226
DTEND;VALUE=DATE:20231227
SUMMARY:Vánoční koncert v kostele sv. Václava
DESCRIPTION:Tradiční vánoční koncert v kostele sv. Václava v Rousínově. Zazpívá ženský pěvecký sbor Rousing a hosté.\nZačátek v 18h. Vstupné 80Kč
LOCATION:Rousínov
END:VEVENT
END:VCALENDAR